BEGIN:VCALENDAR
VERSION:2.0
PRODID:-//Northbrae Community Church - ECPv6.15.20//NONSGML v1.0//EN
CALSCALE:GREGORIAN
METHOD:PUBLISH
X-WR-CALNAME:Northbrae Community Church
X-ORIGINAL-URL:https://www.northbrae.org
X-WR-CALDESC:Events for Northbrae Community Church
REFRESH-INTERVAL;VALUE=DURATION:PT1H
X-Robots-Tag:noindex
X-PUBLISHED-TTL:PT1H
BEGIN:VTIMEZONE
TZID:America/Los_Angeles
BEGIN:DAYLIGHT
TZOFFSETFROM:-0800
TZOFFSETTO:-0700
TZNAME:PDT
DTSTART:20240310T100000
END:DAYLIGHT
BEGIN:STANDARD
TZOFFSETFROM:-0700
TZOFFSETTO:-0800
TZNAME:PST
DTSTART:20241103T090000
END:STANDARD
BEGIN:DAYLIGHT
TZOFFSETFROM:-0800
TZOFFSETTO:-0700
TZNAME:PDT
DTSTART:20250309T100000
END:DAYLIGHT
BEGIN:STANDARD
TZOFFSETFROM:-0700
TZOFFSETTO:-0800
TZNAME:PST
DTSTART:20251102T090000
END:STANDARD
BEGIN:DAYLIGHT
TZOFFSETFROM:-0800
TZOFFSETTO:-0700
TZNAME:PDT
DTSTART:20260308T100000
END:DAYLIGHT
BEGIN:STANDARD
TZOFFSETFROM:-0700
TZOFFSETTO:-0800
TZNAME:PST
DTSTART:20261101T090000
END:STANDARD
BEGIN:DAYLIGHT
TZOFFSETFROM:-0800
TZOFFSETTO:-0700
TZNAME:PDT
DTSTART:20270314T100000
END:DAYLIGHT
BEGIN:STANDARD
TZOFFSETFROM:-0700
TZOFFSETTO:-0800
TZNAME:PST
DTSTART:20271107T090000
END:STANDARD
END:VTIMEZONE
BEGIN:VEVENT
DTSTART;TZID=America/Los_Angeles:20260111T090000
DTEND;TZID=America/Los_Angeles:20260211T170000
DTSTAMP:20260425T050441
CREATED:20260114T222841Z
LAST-MODIFIED:20260114T222841Z
UID:10003295-1768122000-1770829200@www.northbrae.org
SUMMARY:Northbrae Art Gallery
DESCRIPTION:Patty Szerlip\, an acrylic painter of murals\, landscapes\, moonlight visions\, and portraits of pets and children.
URL:https://www.northbrae.org/event/northbrae-art-gallery/
LOCATION:Northbrae Gallery\, 941 The Alameda\, Berkeley\, 94707
ORGANIZER;CN="Church Administrator":MAILTO:northbrae3@gmail.com
END:VEVENT
BEGIN:VEVENT
DTSTART;TZID=America/Los_Angeles:20260108T193000
DTEND;TZID=America/Los_Angeles:20260108T210000
DTSTAMP:20260425T050441
CREATED:20250408T042134Z
LAST-MODIFIED:20250428T174026Z
UID:10002777-1767900600-1767906000@www.northbrae.org
SUMMARY:Stress Reduction Sound Bath
DESCRIPTION:This immersive sound bath is more than just a chance to relax – it is a ritual for nervous system nourishment and soul restoration.  Led by Certified Mindfulness Meditation Teacher Erica Skone-Rees and musicians Bryce Mulholland and Shannon Hopkins\, each session begins with a gentle grounding meditation and flows into a sonic journey designed to move your brain into the restorative theta state.  Let the healing tones of crystal and Tibetan singing bowls\, guzheng (Chinese harp) steel hand pans\, acoustic guitar\, Koshi bells\, and ancient drums surround and soothe you.  The vibrations help lower stress hormones\, calm the mind\, and invite deep inner peace. \n$30 for Northbrae Members; $45 for general public \nRegister online at mindbodysoundcollective.com
URL:https://www.northbrae.org/event/stress-reduction-sound-bath/2026-01-08/
LOCATION:Northbrae Chapel\, 941 The Alameda\, Berkeley\, CA\, 94707\, United States
ATTACH;FMTTYPE=image/jpeg:https://www.northbrae.org/wp-content/uploads/2025/04/IMG_1835-scaled.jpeg
ORGANIZER;CN="Church Administrator":MAILTO:northbrae3@gmail.com
END:VEVENT
BEGIN:VEVENT
DTSTART;TZID=America/Los_Angeles:20260108T100000
DTEND;TZID=America/Los_Angeles:20260108T110000
DTSTAMP:20260425T050441
CREATED:20250809T212734Z
LAST-MODIFIED:20250824T022323Z
UID:10002988-1767866400-1767870000@www.northbrae.org
SUMMARY:Gentle Yoga
DESCRIPTION:Return to Gentle Yoga \nBreath. Stretch. Balance. These are simple things\, often forgotten in a busy life. \nCome and find yours again.  Chair and standing work. \nBy donation but no one will be turned away.
URL:https://www.northbrae.org/event/gentle-yoga-4/2026-01-08/
LOCATION:Northbrae Parlor\, 941 The Alameda\, Berkeley\, CA\, 94707\, United States
ATTACH;FMTTYPE=image/jpeg:https://www.northbrae.org/wp-content/uploads/2024/01/yoga-scaled.jpg
ORGANIZER;CN="Church Administrator":MAILTO:northbrae3@gmail.com
END:VEVENT
BEGIN:VEVENT
DTSTART;TZID=America/Los_Angeles:20260101T100000
DTEND;TZID=America/Los_Angeles:20260101T110000
DTSTAMP:20260425T050441
CREATED:20250809T212734Z
LAST-MODIFIED:20250824T022323Z
UID:10002987-1767261600-1767265200@www.northbrae.org
SUMMARY:Gentle Yoga
DESCRIPTION:Return to Gentle Yoga \nBreath. Stretch. Balance. These are simple things\, often forgotten in a busy life. \nCome and find yours again.  Chair and standing work. \nBy donation but no one will be turned away.
URL:https://www.northbrae.org/event/gentle-yoga-4/2026-01-01/
LOCATION:Northbrae Parlor\, 941 The Alameda\, Berkeley\, CA\, 94707\, United States
ATTACH;FMTTYPE=image/jpeg:https://www.northbrae.org/wp-content/uploads/2024/01/yoga-scaled.jpg
ORGANIZER;CN="Church Administrator":MAILTO:northbrae3@gmail.com
END:VEVENT
BEGIN:VEVENT
DTSTART;TZID=America/Los_Angeles:20251225T100000
DTEND;TZID=America/Los_Angeles:20251225T110000
DTSTAMP:20260425T050441
CREATED:20250809T212734Z
LAST-MODIFIED:20250824T022323Z
UID:10002986-1766656800-1766660400@www.northbrae.org
SUMMARY:Gentle Yoga
DESCRIPTION:Return to Gentle Yoga \nBreath. Stretch. Balance. These are simple things\, often forgotten in a busy life. \nCome and find yours again.  Chair and standing work. \nBy donation but no one will be turned away.
URL:https://www.northbrae.org/event/gentle-yoga-4/2025-12-25/
LOCATION:Northbrae Parlor\, 941 The Alameda\, Berkeley\, CA\, 94707\, United States
ATTACH;FMTTYPE=image/jpeg:https://www.northbrae.org/wp-content/uploads/2024/01/yoga-scaled.jpg
ORGANIZER;CN="Church Administrator":MAILTO:northbrae3@gmail.com
END:VEVENT
BEGIN:VEVENT
DTSTART;TZID=America/Los_Angeles:20251224T220000
DTEND;TZID=America/Los_Angeles:20251224T230000
DTSTAMP:20260425T050441
CREATED:20251212T041452Z
LAST-MODIFIED:20251212T041452Z
UID:10003292-1766613600-1766617200@www.northbrae.org
SUMMARY:Christmas Eve Service
DESCRIPTION:Join us on Christmas Eve for a Candlelight Service.  There will be carols for all to sing\, choir\, soloists\, French horn\, candlelight\, and community\, as well as Christmas readings and meditation.  All are welcome to join us to celebrate and contemplate what is most meaningful to you at this time of year.
URL:https://www.northbrae.org/event/christmas-eve-service-2/
LOCATION:Northbrae Chapel\, 941 The Alameda\, Berkeley\, CA\, 94707\, United States
ATTACH;FMTTYPE=image/jpeg:https://www.northbrae.org/wp-content/uploads/2024/12/Christmas.jpg
ORGANIZER;CN="Church Administrator":MAILTO:northbrae3@gmail.com
END:VEVENT
BEGIN:VEVENT
DTSTART;TZID=America/Los_Angeles:20251218T100000
DTEND;TZID=America/Los_Angeles:20251218T110000
DTSTAMP:20260425T050441
CREATED:20250809T212734Z
LAST-MODIFIED:20250824T022323Z
UID:10002985-1766052000-1766055600@www.northbrae.org
SUMMARY:Gentle Yoga
DESCRIPTION:Return to Gentle Yoga \nBreath. Stretch. Balance. These are simple things\, often forgotten in a busy life. \nCome and find yours again.  Chair and standing work. \nBy donation but no one will be turned away.
URL:https://www.northbrae.org/event/gentle-yoga-4/2025-12-18/
LOCATION:Northbrae Parlor\, 941 The Alameda\, Berkeley\, CA\, 94707\, United States
ATTACH;FMTTYPE=image/jpeg:https://www.northbrae.org/wp-content/uploads/2024/01/yoga-scaled.jpg
ORGANIZER;CN="Church Administrator":MAILTO:northbrae3@gmail.com
END:VEVENT
BEGIN:VEVENT
DTSTART;TZID=America/Los_Angeles:20251211T193000
DTEND;TZID=America/Los_Angeles:20251211T210000
DTSTAMP:20260425T050441
CREATED:20250408T042134Z
LAST-MODIFIED:20250428T174026Z
UID:10002776-1765481400-1765486800@www.northbrae.org
SUMMARY:Stress Reduction Sound Bath
DESCRIPTION:This immersive sound bath is more than just a chance to relax – it is a ritual for nervous system nourishment and soul restoration.  Led by Certified Mindfulness Meditation Teacher Erica Skone-Rees and musicians Bryce Mulholland and Shannon Hopkins\, each session begins with a gentle grounding meditation and flows into a sonic journey designed to move your brain into the restorative theta state.  Let the healing tones of crystal and Tibetan singing bowls\, guzheng (Chinese harp) steel hand pans\, acoustic guitar\, Koshi bells\, and ancient drums surround and soothe you.  The vibrations help lower stress hormones\, calm the mind\, and invite deep inner peace. \n$30 for Northbrae Members; $45 for general public \nRegister online at mindbodysoundcollective.com
URL:https://www.northbrae.org/event/stress-reduction-sound-bath/2025-12-11/
LOCATION:Northbrae Chapel\, 941 The Alameda\, Berkeley\, CA\, 94707\, United States
ATTACH;FMTTYPE=image/jpeg:https://www.northbrae.org/wp-content/uploads/2025/04/IMG_1835-scaled.jpeg
ORGANIZER;CN="Church Administrator":MAILTO:northbrae3@gmail.com
END:VEVENT
BEGIN:VEVENT
DTSTART;TZID=America/Los_Angeles:20251211T100000
DTEND;TZID=America/Los_Angeles:20251211T110000
DTSTAMP:20260425T050441
CREATED:20250809T212734Z
LAST-MODIFIED:20250824T022323Z
UID:10002984-1765447200-1765450800@www.northbrae.org
SUMMARY:Gentle Yoga
DESCRIPTION:Return to Gentle Yoga \nBreath. Stretch. Balance. These are simple things\, often forgotten in a busy life. \nCome and find yours again.  Chair and standing work. \nBy donation but no one will be turned away.
URL:https://www.northbrae.org/event/gentle-yoga-4/2025-12-11/
LOCATION:Northbrae Parlor\, 941 The Alameda\, Berkeley\, CA\, 94707\, United States
ATTACH;FMTTYPE=image/jpeg:https://www.northbrae.org/wp-content/uploads/2024/01/yoga-scaled.jpg
ORGANIZER;CN="Church Administrator":MAILTO:northbrae3@gmail.com
END:VEVENT
BEGIN:VEVENT
DTSTART;TZID=America/Los_Angeles:20251204T100000
DTEND;TZID=America/Los_Angeles:20251204T110000
DTSTAMP:20260425T050441
CREATED:20250809T212734Z
LAST-MODIFIED:20250824T022323Z
UID:10002983-1764842400-1764846000@www.northbrae.org
SUMMARY:Gentle Yoga
DESCRIPTION:Return to Gentle Yoga \nBreath. Stretch. Balance. These are simple things\, often forgotten in a busy life. \nCome and find yours again.  Chair and standing work. \nBy donation but no one will be turned away.
URL:https://www.northbrae.org/event/gentle-yoga-4/2025-12-04/
LOCATION:Northbrae Parlor\, 941 The Alameda\, Berkeley\, CA\, 94707\, United States
ATTACH;FMTTYPE=image/jpeg:https://www.northbrae.org/wp-content/uploads/2024/01/yoga-scaled.jpg
ORGANIZER;CN="Church Administrator":MAILTO:northbrae3@gmail.com
END:VEVENT
BEGIN:VEVENT
DTSTART;TZID=America/Los_Angeles:20251127T100000
DTEND;TZID=America/Los_Angeles:20251127T110000
DTSTAMP:20260425T050441
CREATED:20250809T212734Z
LAST-MODIFIED:20250824T022323Z
UID:10002982-1764237600-1764241200@www.northbrae.org
SUMMARY:Gentle Yoga
DESCRIPTION:Return to Gentle Yoga \nBreath. Stretch. Balance. These are simple things\, often forgotten in a busy life. \nCome and find yours again.  Chair and standing work. \nBy donation but no one will be turned away.
URL:https://www.northbrae.org/event/gentle-yoga-4/2025-11-27/
LOCATION:Northbrae Parlor\, 941 The Alameda\, Berkeley\, CA\, 94707\, United States
ATTACH;FMTTYPE=image/jpeg:https://www.northbrae.org/wp-content/uploads/2024/01/yoga-scaled.jpg
ORGANIZER;CN="Church Administrator":MAILTO:northbrae3@gmail.com
END:VEVENT
BEGIN:VEVENT
DTSTART;TZID=America/Los_Angeles:20251120T100000
DTEND;TZID=America/Los_Angeles:20251120T110000
DTSTAMP:20260425T050441
CREATED:20250809T212734Z
LAST-MODIFIED:20250824T022323Z
UID:10002981-1763632800-1763636400@www.northbrae.org
SUMMARY:Gentle Yoga
DESCRIPTION:Return to Gentle Yoga \nBreath. Stretch. Balance. These are simple things\, often forgotten in a busy life. \nCome and find yours again.  Chair and standing work. \nBy donation but no one will be turned away.
URL:https://www.northbrae.org/event/gentle-yoga-4/2025-11-20/
LOCATION:Northbrae Parlor\, 941 The Alameda\, Berkeley\, CA\, 94707\, United States
ATTACH;FMTTYPE=image/jpeg:https://www.northbrae.org/wp-content/uploads/2024/01/yoga-scaled.jpg
ORGANIZER;CN="Church Administrator":MAILTO:northbrae3@gmail.com
END:VEVENT
BEGIN:VEVENT
DTSTART;TZID=America/Los_Angeles:20251113T193000
DTEND;TZID=America/Los_Angeles:20251113T210000
DTSTAMP:20260425T050441
CREATED:20250408T042134Z
LAST-MODIFIED:20250428T174026Z
UID:10002775-1763062200-1763067600@www.northbrae.org
SUMMARY:Stress Reduction Sound Bath
DESCRIPTION:This immersive sound bath is more than just a chance to relax – it is a ritual for nervous system nourishment and soul restoration.  Led by Certified Mindfulness Meditation Teacher Erica Skone-Rees and musicians Bryce Mulholland and Shannon Hopkins\, each session begins with a gentle grounding meditation and flows into a sonic journey designed to move your brain into the restorative theta state.  Let the healing tones of crystal and Tibetan singing bowls\, guzheng (Chinese harp) steel hand pans\, acoustic guitar\, Koshi bells\, and ancient drums surround and soothe you.  The vibrations help lower stress hormones\, calm the mind\, and invite deep inner peace. \n$30 for Northbrae Members; $45 for general public \nRegister online at mindbodysoundcollective.com
URL:https://www.northbrae.org/event/stress-reduction-sound-bath/2025-11-13/
LOCATION:Northbrae Chapel\, 941 The Alameda\, Berkeley\, CA\, 94707\, United States
ATTACH;FMTTYPE=image/jpeg:https://www.northbrae.org/wp-content/uploads/2025/04/IMG_1835-scaled.jpeg
ORGANIZER;CN="Church Administrator":MAILTO:northbrae3@gmail.com
END:VEVENT
BEGIN:VEVENT
DTSTART;TZID=America/Los_Angeles:20251113T100000
DTEND;TZID=America/Los_Angeles:20251113T110000
DTSTAMP:20260425T050441
CREATED:20250809T212734Z
LAST-MODIFIED:20250824T022323Z
UID:10002980-1763028000-1763031600@www.northbrae.org
SUMMARY:Gentle Yoga
DESCRIPTION:Return to Gentle Yoga \nBreath. Stretch. Balance. These are simple things\, often forgotten in a busy life. \nCome and find yours again.  Chair and standing work. \nBy donation but no one will be turned away.
URL:https://www.northbrae.org/event/gentle-yoga-4/2025-11-13/
LOCATION:Northbrae Parlor\, 941 The Alameda\, Berkeley\, CA\, 94707\, United States
ATTACH;FMTTYPE=image/jpeg:https://www.northbrae.org/wp-content/uploads/2024/01/yoga-scaled.jpg
ORGANIZER;CN="Church Administrator":MAILTO:northbrae3@gmail.com
END:VEVENT
BEGIN:VEVENT
DTSTART;TZID=America/Los_Angeles:20251109T100000
DTEND;TZID=America/Los_Angeles:20251109T170000
DTSTAMP:20260425T050441
CREATED:20251005T005616Z
LAST-MODIFIED:20251005T005616Z
UID:10003282-1762682400-1762707600@www.northbrae.org
SUMMARY:Northbrae Gallery Exhibit
DESCRIPTION:Return of the Northbrae Art Gallery \nNorthbrae will hold a gallery art exhibit beginning November 9 and running through November. We want to display works of art by Northbrae members.  We have many talented artists in our congregation\, and this is an opportunity to share paintings\, sculpture\, crafts\, quilts\, products of our creativity.  Our upstairs gallery is perfect for art exhibits.
URL:https://www.northbrae.org/event/northbrae-gallery-exhibit-2/
LOCATION:Northbrae Gallery\, 941 The Alameda\, Berkeley\, 94707
ORGANIZER;CN="Church Administrator":MAILTO:northbrae3@gmail.com
END:VEVENT
BEGIN:VEVENT
DTSTART;TZID=America/Los_Angeles:20251106T100000
DTEND;TZID=America/Los_Angeles:20251106T110000
DTSTAMP:20260425T050441
CREATED:20250809T212734Z
LAST-MODIFIED:20250824T022323Z
UID:10002979-1762423200-1762426800@www.northbrae.org
SUMMARY:Gentle Yoga
DESCRIPTION:Return to Gentle Yoga \nBreath. Stretch. Balance. These are simple things\, often forgotten in a busy life. \nCome and find yours again.  Chair and standing work. \nBy donation but no one will be turned away.
URL:https://www.northbrae.org/event/gentle-yoga-4/2025-11-06/
LOCATION:Northbrae Parlor\, 941 The Alameda\, Berkeley\, CA\, 94707\, United States
ATTACH;FMTTYPE=image/jpeg:https://www.northbrae.org/wp-content/uploads/2024/01/yoga-scaled.jpg
ORGANIZER;CN="Church Administrator":MAILTO:northbrae3@gmail.com
END:VEVENT
BEGIN:VEVENT
DTSTART;TZID=America/Los_Angeles:20251030T100000
DTEND;TZID=America/Los_Angeles:20251030T110000
DTSTAMP:20260425T050441
CREATED:20250809T212734Z
LAST-MODIFIED:20250824T022323Z
UID:10002978-1761818400-1761822000@www.northbrae.org
SUMMARY:Gentle Yoga
DESCRIPTION:Return to Gentle Yoga \nBreath. Stretch. Balance. These are simple things\, often forgotten in a busy life. \nCome and find yours again.  Chair and standing work. \nBy donation but no one will be turned away.
URL:https://www.northbrae.org/event/gentle-yoga-4/2025-10-30/
LOCATION:Northbrae Parlor\, 941 The Alameda\, Berkeley\, CA\, 94707\, United States
ATTACH;FMTTYPE=image/jpeg:https://www.northbrae.org/wp-content/uploads/2024/01/yoga-scaled.jpg
ORGANIZER;CN="Church Administrator":MAILTO:northbrae3@gmail.com
END:VEVENT
BEGIN:VEVENT
DTSTART;TZID=America/Los_Angeles:20251023T100000
DTEND;TZID=America/Los_Angeles:20251023T110000
DTSTAMP:20260425T050441
CREATED:20250809T212734Z
LAST-MODIFIED:20250824T022323Z
UID:10002977-1761213600-1761217200@www.northbrae.org
SUMMARY:Gentle Yoga
DESCRIPTION:Return to Gentle Yoga \nBreath. Stretch. Balance. These are simple things\, often forgotten in a busy life. \nCome and find yours again.  Chair and standing work. \nBy donation but no one will be turned away.
URL:https://www.northbrae.org/event/gentle-yoga-4/2025-10-23/
LOCATION:Northbrae Parlor\, 941 The Alameda\, Berkeley\, CA\, 94707\, United States
ATTACH;FMTTYPE=image/jpeg:https://www.northbrae.org/wp-content/uploads/2024/01/yoga-scaled.jpg
ORGANIZER;CN="Church Administrator":MAILTO:northbrae3@gmail.com
END:VEVENT
BEGIN:VEVENT
DTSTART;TZID=America/Los_Angeles:20251016T100000
DTEND;TZID=America/Los_Angeles:20251016T110000
DTSTAMP:20260425T050441
CREATED:20250809T212734Z
LAST-MODIFIED:20250824T022323Z
UID:10002976-1760608800-1760612400@www.northbrae.org
SUMMARY:Gentle Yoga
DESCRIPTION:Return to Gentle Yoga \nBreath. Stretch. Balance. These are simple things\, often forgotten in a busy life. \nCome and find yours again.  Chair and standing work. \nBy donation but no one will be turned away.
URL:https://www.northbrae.org/event/gentle-yoga-4/2025-10-16/
LOCATION:Northbrae Parlor\, 941 The Alameda\, Berkeley\, CA\, 94707\, United States
ATTACH;FMTTYPE=image/jpeg:https://www.northbrae.org/wp-content/uploads/2024/01/yoga-scaled.jpg
ORGANIZER;CN="Church Administrator":MAILTO:northbrae3@gmail.com
END:VEVENT
BEGIN:VEVENT
DTSTART;TZID=America/Los_Angeles:20251013T090000
DTEND;TZID=America/Los_Angeles:20251013T170000
DTSTAMP:20260425T050441
CREATED:20251005T002508Z
LAST-MODIFIED:20251005T002508Z
UID:10003281-1760346000-1760374800@www.northbrae.org
SUMMARY:Office Closed
DESCRIPTION:  \nThe Church Office will be closed Monday\, October 13th for Indigenous Peoples Day
URL:https://www.northbrae.org/event/office-closed/
ORGANIZER;CN="Church Administrator":MAILTO:northbrae3@gmail.com
END:VEVENT
BEGIN:VEVENT
DTSTART;TZID=America/Los_Angeles:20251009T193000
DTEND;TZID=America/Los_Angeles:20251009T210000
DTSTAMP:20260425T050441
CREATED:20250408T042134Z
LAST-MODIFIED:20250428T174026Z
UID:10002774-1760038200-1760043600@www.northbrae.org
SUMMARY:Stress Reduction Sound Bath
DESCRIPTION:This immersive sound bath is more than just a chance to relax – it is a ritual for nervous system nourishment and soul restoration.  Led by Certified Mindfulness Meditation Teacher Erica Skone-Rees and musicians Bryce Mulholland and Shannon Hopkins\, each session begins with a gentle grounding meditation and flows into a sonic journey designed to move your brain into the restorative theta state.  Let the healing tones of crystal and Tibetan singing bowls\, guzheng (Chinese harp) steel hand pans\, acoustic guitar\, Koshi bells\, and ancient drums surround and soothe you.  The vibrations help lower stress hormones\, calm the mind\, and invite deep inner peace. \n$30 for Northbrae Members; $45 for general public \nRegister online at mindbodysoundcollective.com
URL:https://www.northbrae.org/event/stress-reduction-sound-bath/2025-10-09/
LOCATION:Northbrae Chapel\, 941 The Alameda\, Berkeley\, CA\, 94707\, United States
ATTACH;FMTTYPE=image/jpeg:https://www.northbrae.org/wp-content/uploads/2025/04/IMG_1835-scaled.jpeg
ORGANIZER;CN="Church Administrator":MAILTO:northbrae3@gmail.com
END:VEVENT
BEGIN:VEVENT
DTSTART;TZID=America/Los_Angeles:20251009T100000
DTEND;TZID=America/Los_Angeles:20251009T110000
DTSTAMP:20260425T050441
CREATED:20250809T212734Z
LAST-MODIFIED:20250824T022323Z
UID:10002975-1760004000-1760007600@www.northbrae.org
SUMMARY:Gentle Yoga
DESCRIPTION:Return to Gentle Yoga \nBreath. Stretch. Balance. These are simple things\, often forgotten in a busy life. \nCome and find yours again.  Chair and standing work. \nBy donation but no one will be turned away.
URL:https://www.northbrae.org/event/gentle-yoga-4/2025-10-09/
LOCATION:Northbrae Parlor\, 941 The Alameda\, Berkeley\, CA\, 94707\, United States
ATTACH;FMTTYPE=image/jpeg:https://www.northbrae.org/wp-content/uploads/2024/01/yoga-scaled.jpg
ORGANIZER;CN="Church Administrator":MAILTO:northbrae3@gmail.com
END:VEVENT
BEGIN:VEVENT
DTSTART;TZID=America/Los_Angeles:20251002T100000
DTEND;TZID=America/Los_Angeles:20251002T110000
DTSTAMP:20260425T050441
CREATED:20250809T212734Z
LAST-MODIFIED:20250824T022323Z
UID:10002974-1759399200-1759402800@www.northbrae.org
SUMMARY:Gentle Yoga
DESCRIPTION:Return to Gentle Yoga \nBreath. Stretch. Balance. These are simple things\, often forgotten in a busy life. \nCome and find yours again.  Chair and standing work. \nBy donation but no one will be turned away.
URL:https://www.northbrae.org/event/gentle-yoga-4/2025-10-02/
LOCATION:Northbrae Parlor\, 941 The Alameda\, Berkeley\, CA\, 94707\, United States
ATTACH;FMTTYPE=image/jpeg:https://www.northbrae.org/wp-content/uploads/2024/01/yoga-scaled.jpg
ORGANIZER;CN="Church Administrator":MAILTO:northbrae3@gmail.com
END:VEVENT
BEGIN:VEVENT
DTSTART;TZID=America/Los_Angeles:20250925T100000
DTEND;TZID=America/Los_Angeles:20250925T110000
DTSTAMP:20260425T050441
CREATED:20250809T212734Z
LAST-MODIFIED:20250824T022323Z
UID:10002973-1758794400-1758798000@www.northbrae.org
SUMMARY:Gentle Yoga
DESCRIPTION:Return to Gentle Yoga \nBreath. Stretch. Balance. These are simple things\, often forgotten in a busy life. \nCome and find yours again.  Chair and standing work. \nBy donation but no one will be turned away.
URL:https://www.northbrae.org/event/gentle-yoga-4/2025-09-25/
LOCATION:Northbrae Parlor\, 941 The Alameda\, Berkeley\, CA\, 94707\, United States
ATTACH;FMTTYPE=image/jpeg:https://www.northbrae.org/wp-content/uploads/2024/01/yoga-scaled.jpg
ORGANIZER;CN="Church Administrator":MAILTO:northbrae3@gmail.com
END:VEVENT
BEGIN:VEVENT
DTSTART;TZID=America/Los_Angeles:20250920T190000
DTEND;TZID=America/Los_Angeles:20250920T213000
DTSTAMP:20260425T050441
CREATED:20250905T005525Z
LAST-MODIFIED:20250905T195015Z
UID:10003264-1758394800-1758403800@www.northbrae.org
SUMMARY:Alice Ducey Concert
DESCRIPTION:This Side of Red album release concert.   For more information visit her website at: https://www.aliceducey.com or download the flier. \n 
URL:https://www.northbrae.org/event/alice-ducey-concert/
LOCATION:Northbrae Haver Hall\, 941 The Alameda\, Berkeley\, CA\, 94707\, United States
ATTACH;FMTTYPE=image/jpeg:https://www.northbrae.org/wp-content/uploads/2025/09/download.jpg
ORGANIZER;CN="Church Administrator":MAILTO:northbrae3@gmail.com
END:VEVENT
BEGIN:VEVENT
DTSTART;TZID=America/Los_Angeles:20250918T100000
DTEND;TZID=America/Los_Angeles:20250918T110000
DTSTAMP:20260425T050441
CREATED:20250809T212734Z
LAST-MODIFIED:20250824T022323Z
UID:10002972-1758189600-1758193200@www.northbrae.org
SUMMARY:Gentle Yoga
DESCRIPTION:Return to Gentle Yoga \nBreath. Stretch. Balance. These are simple things\, often forgotten in a busy life. \nCome and find yours again.  Chair and standing work. \nBy donation but no one will be turned away.
URL:https://www.northbrae.org/event/gentle-yoga-4/2025-09-18/
LOCATION:Northbrae Parlor\, 941 The Alameda\, Berkeley\, CA\, 94707\, United States
ATTACH;FMTTYPE=image/jpeg:https://www.northbrae.org/wp-content/uploads/2024/01/yoga-scaled.jpg
ORGANIZER;CN="Church Administrator":MAILTO:northbrae3@gmail.com
END:VEVENT
BEGIN:VEVENT
DTSTART;TZID=America/Los_Angeles:20250914T090000
DTEND;TZID=America/Los_Angeles:20250914T170000
DTSTAMP:20260425T050441
CREATED:20250824T024717Z
LAST-MODIFIED:20250824T024717Z
UID:10003234-1757840400-1757869200@www.northbrae.org
SUMMARY:Solano Stroll
DESCRIPTION:Look for Northbrae at the Solano Stroll!
URL:https://www.northbrae.org/event/solano-stroll/
ORGANIZER;CN="Church Administrator":MAILTO:northbrae3@gmail.com
END:VEVENT
BEGIN:VEVENT
DTSTART;TZID=America/Los_Angeles:20250911T193000
DTEND;TZID=America/Los_Angeles:20250911T210000
DTSTAMP:20260425T050441
CREATED:20250408T042134Z
LAST-MODIFIED:20250428T174026Z
UID:10002773-1757619000-1757624400@www.northbrae.org
SUMMARY:Stress Reduction Sound Bath
DESCRIPTION:This immersive sound bath is more than just a chance to relax – it is a ritual for nervous system nourishment and soul restoration.  Led by Certified Mindfulness Meditation Teacher Erica Skone-Rees and musicians Bryce Mulholland and Shannon Hopkins\, each session begins with a gentle grounding meditation and flows into a sonic journey designed to move your brain into the restorative theta state.  Let the healing tones of crystal and Tibetan singing bowls\, guzheng (Chinese harp) steel hand pans\, acoustic guitar\, Koshi bells\, and ancient drums surround and soothe you.  The vibrations help lower stress hormones\, calm the mind\, and invite deep inner peace. \n$30 for Northbrae Members; $45 for general public \nRegister online at mindbodysoundcollective.com
URL:https://www.northbrae.org/event/stress-reduction-sound-bath/2025-09-11/
LOCATION:Northbrae Chapel\, 941 The Alameda\, Berkeley\, CA\, 94707\, United States
ATTACH;FMTTYPE=image/jpeg:https://www.northbrae.org/wp-content/uploads/2025/04/IMG_1835-scaled.jpeg
ORGANIZER;CN="Church Administrator":MAILTO:northbrae3@gmail.com
END:VEVENT
BEGIN:VEVENT
DTSTART;TZID=America/Los_Angeles:20250911T100000
DTEND;TZID=America/Los_Angeles:20250911T110000
DTSTAMP:20260425T050441
CREATED:20250809T212734Z
LAST-MODIFIED:20250824T022323Z
UID:10002971-1757584800-1757588400@www.northbrae.org
SUMMARY:Gentle Yoga
DESCRIPTION:Return to Gentle Yoga \nBreath. Stretch. Balance. These are simple things\, often forgotten in a busy life. \nCome and find yours again.  Chair and standing work. \nBy donation but no one will be turned away.
URL:https://www.northbrae.org/event/gentle-yoga-4/2025-09-11/
LOCATION:Northbrae Parlor\, 941 The Alameda\, Berkeley\, CA\, 94707\, United States
ATTACH;FMTTYPE=image/jpeg:https://www.northbrae.org/wp-content/uploads/2024/01/yoga-scaled.jpg
ORGANIZER;CN="Church Administrator":MAILTO:northbrae3@gmail.com
END:VEVENT
BEGIN:VEVENT
DTSTART;TZID=America/Los_Angeles:20250814T193000
DTEND;TZID=America/Los_Angeles:20250814T210000
DTSTAMP:20260425T050441
CREATED:20250408T042134Z
LAST-MODIFIED:20250428T174026Z
UID:10002772-1755199800-1755205200@www.northbrae.org
SUMMARY:Stress Reduction Sound Bath
DESCRIPTION:This immersive sound bath is more than just a chance to relax – it is a ritual for nervous system nourishment and soul restoration.  Led by Certified Mindfulness Meditation Teacher Erica Skone-Rees and musicians Bryce Mulholland and Shannon Hopkins\, each session begins with a gentle grounding meditation and flows into a sonic journey designed to move your brain into the restorative theta state.  Let the healing tones of crystal and Tibetan singing bowls\, guzheng (Chinese harp) steel hand pans\, acoustic guitar\, Koshi bells\, and ancient drums surround and soothe you.  The vibrations help lower stress hormones\, calm the mind\, and invite deep inner peace. \n$30 for Northbrae Members; $45 for general public \nRegister online at mindbodysoundcollective.com
URL:https://www.northbrae.org/event/stress-reduction-sound-bath/2025-08-14/
LOCATION:Northbrae Chapel\, 941 The Alameda\, Berkeley\, CA\, 94707\, United States
ATTACH;FMTTYPE=image/jpeg:https://www.northbrae.org/wp-content/uploads/2025/04/IMG_1835-scaled.jpeg
ORGANIZER;CN="Church Administrator":MAILTO:northbrae3@gmail.com
END:VEVENT
END:VCALENDAR