BEGIN:VCALENDAR
VERSION:2.0
PRODID:-//Northbrae Community Church - ECPv6.15.20//NONSGML v1.0//EN
CALSCALE:GREGORIAN
METHOD:PUBLISH
X-ORIGINAL-URL:https://www.northbrae.org
X-WR-CALDESC:Events for Northbrae Community Church
REFRESH-INTERVAL;VALUE=DURATION:PT1H
X-Robots-Tag:noindex
X-PUBLISHED-TTL:PT1H
BEGIN:VTIMEZONE
TZID:America/Los_Angeles
BEGIN:DAYLIGHT
TZOFFSETFROM:-0800
TZOFFSETTO:-0700
TZNAME:PDT
DTSTART:20220313T100000
END:DAYLIGHT
BEGIN:STANDARD
TZOFFSETFROM:-0700
TZOFFSETTO:-0800
TZNAME:PST
DTSTART:20221106T090000
END:STANDARD
BEGIN:DAYLIGHT
TZOFFSETFROM:-0800
TZOFFSETTO:-0700
TZNAME:PDT
DTSTART:20230312T100000
END:DAYLIGHT
BEGIN:STANDARD
TZOFFSETFROM:-0700
TZOFFSETTO:-0800
TZNAME:PST
DTSTART:20231105T090000
END:STANDARD
BEGIN:DAYLIGHT
TZOFFSETFROM:-0800
TZOFFSETTO:-0700
TZNAME:PDT
DTSTART:20240310T100000
END:DAYLIGHT
BEGIN:STANDARD
TZOFFSETFROM:-0700
TZOFFSETTO:-0800
TZNAME:PST
DTSTART:20241103T090000
END:STANDARD
BEGIN:DAYLIGHT
TZOFFSETFROM:-0800
TZOFFSETTO:-0700
TZNAME:PDT
DTSTART:20250309T100000
END:DAYLIGHT
BEGIN:STANDARD
TZOFFSETFROM:-0700
TZOFFSETTO:-0800
TZNAME:PST
DTSTART:20251102T090000
END:STANDARD
BEGIN:DAYLIGHT
TZOFFSETFROM:-0800
TZOFFSETTO:-0700
TZNAME:PDT
DTSTART:20260308T100000
END:DAYLIGHT
BEGIN:STANDARD
TZOFFSETFROM:-0700
TZOFFSETTO:-0800
TZNAME:PST
DTSTART:20261101T090000
END:STANDARD
BEGIN:DAYLIGHT
TZOFFSETFROM:-0800
TZOFFSETTO:-0700
TZNAME:PDT
DTSTART:20270314T100000
END:DAYLIGHT
BEGIN:STANDARD
TZOFFSETFROM:-0700
TZOFFSETTO:-0800
TZNAME:PST
DTSTART:20271107T090000
END:STANDARD
END:VTIMEZONE
BEGIN:VEVENT
DTSTART;TZID=America/Los_Angeles:20260412T190000
DTEND;TZID=America/Los_Angeles:20260412T200000
DTSTAMP:20260421T094734
CREATED:20260330T193552Z
LAST-MODIFIED:20260330T193552Z
UID:10003323-1776020400-1776024000@www.northbrae.org
SUMMARY:Civic Conversations
DESCRIPTION:Contact Dianne for Zoom link.
URL:https://www.northbrae.org/event/civic-conversations-3/
LOCATION:Zoom
ORGANIZER;CN="Dianne McNenny":MAILTO:mcnennyd@aol.com
END:VEVENT
BEGIN:VEVENT
DTSTART;TZID=America/Los_Angeles:20260322T190000
DTEND;TZID=America/Los_Angeles:20260322T210000
DTSTAMP:20260421T094734
CREATED:20260202T003221Z
LAST-MODIFIED:20260202T003221Z
UID:10003297-1774206000-1774213200@www.northbrae.org
SUMMARY:Sunday Night Book Group
DESCRIPTION:Our next selection is the mystery The Blessing Way by Tony Hillerman.  Hillerman’s writing is known for the cultural details he provides about the Hopi\, Zuni\, and Navajo. \nContact Dianne for the Zoom link.
URL:https://www.northbrae.org/event/sunday-night-book-group-15/
LOCATION:Zoom
ORGANIZER;CN="Dianne McNenny":MAILTO:mcnennyd@aol.com
END:VEVENT
BEGIN:VEVENT
DTSTART;TZID=America/Los_Angeles:20260315T190000
DTEND;TZID=America/Los_Angeles:20260315T200000
DTSTAMP:20260421T094734
CREATED:20260220T025932Z
LAST-MODIFIED:20260220T025932Z
UID:10003298-1773601200-1773604800@www.northbrae.org
SUMMARY:Civics Conversations
DESCRIPTION:Email Dianne for Zoom link.
URL:https://www.northbrae.org/event/civics-conversations-15/
LOCATION:Zoom
ORGANIZER;CN="Dianne McNenny":MAILTO:mcnennyd@aol.com
END:VEVENT
BEGIN:VEVENT
DTSTART;TZID=America/Los_Angeles:20260208T190000
DTEND;TZID=America/Los_Angeles:20260208T200000
DTSTAMP:20260421T094734
CREATED:20260114T224036Z
LAST-MODIFIED:20260114T224036Z
UID:10003296-1770577200-1770580800@www.northbrae.org
SUMMARY:Civics Conversations
DESCRIPTION:Contact Dianne for the Zoom link.
URL:https://www.northbrae.org/event/civics-conversations-14/
LOCATION:Zoom
ORGANIZER;CN="Dianne McNenny":MAILTO:mcnennyd@aol.com
END:VEVENT
BEGIN:VEVENT
DTSTART;TZID=America/Los_Angeles:20260111T190000
DTEND;TZID=America/Los_Angeles:20260111T203000
DTSTAMP:20260421T094734
CREATED:20251124T002821Z
LAST-MODIFIED:20251124T003219Z
UID:10003291-1768158000-1768163400@www.northbrae.org
SUMMARY:Sunday Night Book Group
DESCRIPTION:Our next selection to read is Raising Hare\, by Chloe Dalton.  A moving and fascinating meditation on freedom\, trust\, loss\, and our relationship with the natural world explored through one woman’s unlikely friendship with a wild hare. \nEmail Dianne for the Zoom link.
URL:https://www.northbrae.org/event/sunday-night-book-group-14/
LOCATION:Zoom
ORGANIZER;CN="Dianne McNenny":MAILTO:mcnennyd@aol.com
END:VEVENT
BEGIN:VEVENT
DTSTART;TZID=America/Los_Angeles:20251109T190000
DTEND;TZID=America/Los_Angeles:20251109T210000
DTSTAMP:20260421T094734
CREATED:20250824T023059Z
LAST-MODIFIED:20250824T023059Z
UID:10003231-1762714800-1762722000@www.northbrae.org
SUMMARY:Sunday Night Book Group
DESCRIPTION:The Sunday Night Book Group’s next selection is Paul Revere and the World He Lived In\, by Esther Forbes. This vivid account of the life and times of Paul Revere was first published in 1942 to great acclaim and a Pulitzer Prize. An elegant storyteller and expert historian\, Edith Forbes paints a memorable portrait of American colonial history and of this most legendary of revolutionary heroes.  For the Zoom link contact Dianne.
URL:https://www.northbrae.org/event/sunday-night-book-group-13/
LOCATION:Zoom
ORGANIZER;CN="Dianne McNenny":MAILTO:mcnennyd@aol.com
END:VEVENT
BEGIN:VEVENT
DTSTART;TZID=America/Los_Angeles:20250907T190000
DTEND;TZID=America/Los_Angeles:20250907T203000
DTSTAMP:20260421T094734
CREATED:20250809T214639Z
LAST-MODIFIED:20250809T214639Z
UID:10003228-1757271600-1757277000@www.northbrae.org
SUMMARY:Civics Conversations
DESCRIPTION:Contact Dianne for Zoom link.
URL:https://www.northbrae.org/event/civics-conversations-13/
LOCATION:Zoom
ORGANIZER;CN="Dianne McNenny":MAILTO:mcnennyd@aol.com
END:VEVENT
BEGIN:VEVENT
DTSTART;TZID=America/Los_Angeles:20250817T190000
DTEND;TZID=America/Los_Angeles:20250817T210000
DTSTAMP:20260421T094734
CREATED:20250530T042712Z
LAST-MODIFIED:20250809T202102Z
UID:10002892-1755457200-1755464400@www.northbrae.org
SUMMARY:Sunday Night Book Group
DESCRIPTION:Our next selection is Mink River by Brian Doyle.  It’s a tale about a town\, the village of Neawanaka\, on the west coast of Oregon\, beneath the hills that used to boast the biggest trees in the history of the world.
URL:https://www.northbrae.org/event/sunday-night-book-group-12/
LOCATION:Zoom
ORGANIZER;CN="Dianne McNenny":MAILTO:mcnennyd@aol.com
END:VEVENT
BEGIN:VEVENT
DTSTART;TZID=America/Los_Angeles:20250518T190000
DTEND;TZID=America/Los_Angeles:20250518T210000
DTSTAMP:20260421T094734
CREATED:20250406T222739Z
LAST-MODIFIED:20250406T222739Z
UID:10002625-1747594800-1747602000@www.northbrae.org
SUMMARY:Sunday Night Book Group
DESCRIPTION:Our next selection is One Long River Song by Brian Doyle: a moving best seller of essays describing humor and even bliss in moments of everyday life.
URL:https://www.northbrae.org/event/sunday-night-book-group-11/
LOCATION:Zoom
ORGANIZER;CN="Dianne McNenny":MAILTO:mcnennyd@aol.com
END:VEVENT
BEGIN:VEVENT
DTSTART;TZID=America/Los_Angeles:20250504T190000
DTEND;TZID=America/Los_Angeles:20250504T210000
DTSTAMP:20260421T094734
CREATED:20250415T221827Z
LAST-MODIFIED:20250415T222019Z
UID:10002828-1746385200-1746392400@www.northbrae.org
SUMMARY:Civics Conversations
DESCRIPTION:Contact Dianne for Zoom link.
URL:https://www.northbrae.org/event/civics-conversations-12/
LOCATION:Zoom
ORGANIZER;CN="Dianne McNenny":MAILTO:mcnennyd@aol.com
END:VEVENT
BEGIN:VEVENT
DTSTART;TZID=America/Los_Angeles:20250406T190000
DTEND;TZID=America/Los_Angeles:20250406T210000
DTSTAMP:20260421T094734
CREATED:20250406T222122Z
LAST-MODIFIED:20250406T222122Z
UID:10002624-1743966000-1743973200@www.northbrae.org
SUMMARY:Civics Conversations
DESCRIPTION:
URL:https://www.northbrae.org/event/civics-conversations-11/
LOCATION:Zoom
ORGANIZER;CN="Dianne McNenny":MAILTO:mcnennyd@aol.com
END:VEVENT
BEGIN:VEVENT
DTSTART;TZID=America/Los_Angeles:20250309T190000
DTEND;TZID=America/Los_Angeles:20250309T210000
DTSTAMP:20260421T094734
CREATED:20250201T215759Z
LAST-MODIFIED:20250201T215759Z
UID:10002621-1741546800-1741554000@www.northbrae.org
SUMMARY:Sunday Night Book Group
DESCRIPTION:The next Sunday Night Book Group selection is The Postmistress by Sarah Blake\nA World War II novel that jumps from the mass devastation in Europe to the heartaches of an American small town.\n\nContact mcnennyd@aol.com for Zoom link.
URL:https://www.northbrae.org/event/sunday-night-book-group-10/
LOCATION:Zoom
ORGANIZER;CN="Dianne McNenny":MAILTO:mcnennyd@aol.com
END:VEVENT
BEGIN:VEVENT
DTSTART;TZID=America/Los_Angeles:20250202T190000
DTEND;TZID=America/Los_Angeles:20250202T203000
DTSTAMP:20260421T094734
CREATED:20250112T005947Z
LAST-MODIFIED:20250112T005947Z
UID:10002620-1738522800-1738528200@www.northbrae.org
SUMMARY:Civics Conversations
DESCRIPTION:Email Dianne McNenny for Zoom link.
URL:https://www.northbrae.org/event/civics-conversations-10/
LOCATION:Zoom
ORGANIZER;CN="Dianne McNenny":MAILTO:mcnennyd@aol.com
END:VEVENT
BEGIN:VEVENT
DTSTART;TZID=America/Los_Angeles:20250126T190000
DTEND;TZID=America/Los_Angeles:20250126T210000
DTSTAMP:20260421T094734
CREATED:20241201T202003Z
LAST-MODIFIED:20241201T202003Z
UID:10002612-1737918000-1737925200@www.northbrae.org
SUMMARY:Sunday Night Book Group
DESCRIPTION:Sunday Night Book Group’s next selection is Stolen Pride by Arlie Russell Hochschild.  The American ideological divide may feel impassable these days\, but digging into the core of Appalachia\, Arlie Russell Hochschild offers new\, critical perspectives on how poverty and alienation play out on the national political stage. \nFor a link\, contact mcnennyd@aol.com
URL:https://www.northbrae.org/event/sunday-night-book-group-9/
LOCATION:Zoom
ORGANIZER;CN="Dianne McNenny":MAILTO:mcnennyd@aol.com
END:VEVENT
BEGIN:VEVENT
DTSTART;TZID=America/Los_Angeles:20241110T190000
DTEND;TZID=America/Los_Angeles:20241110T210000
DTSTAMP:20260421T094734
CREATED:20240902T195717Z
LAST-MODIFIED:20240902T195717Z
UID:10002587-1731265200-1731272400@www.northbrae.org
SUMMARY:Sunday Night Book Group
DESCRIPTION:The next selection is James by Percival Everett.  An instant New York Times bestseller and longlisted for the Booker Prize.  A brilliant action-packed reimagining of Adventures of Huckleberry Finn\, both harrowing and darkly humorous told from the enslaved Jim’s point of view.  Contact Dianne for the Zoom link.  mcnennyd@aol.com
URL:https://www.northbrae.org/event/sunday-night-book-group-8/
LOCATION:Zoom
ORGANIZER;CN="Dianne McNenny":MAILTO:mcnennyd@aol.com
END:VEVENT
BEGIN:VEVENT
DTSTART;TZID=America/Los_Angeles:20241006T190000
DTEND;TZID=America/Los_Angeles:20241006T210000
DTSTAMP:20260421T094734
CREATED:20240917T023008Z
LAST-MODIFIED:20240917T023008Z
UID:10002602-1728241200-1728248400@www.northbrae.org
SUMMARY:Civics Conversations
DESCRIPTION:
URL:https://www.northbrae.org/event/civics-conversations-9/
LOCATION:Zoom
ORGANIZER;CN="Dianne McNenny":MAILTO:mcnennyd@aol.com
END:VEVENT
BEGIN:VEVENT
DTSTART;TZID=America/Los_Angeles:20240901T190000
DTEND;TZID=America/Los_Angeles:20240901T210000
DTSTAMP:20260421T094734
CREATED:20240812T190605Z
LAST-MODIFIED:20240812T190605Z
UID:10002585-1725217200-1725224400@www.northbrae.org
SUMMARY:Civics Conversation
DESCRIPTION:
URL:https://www.northbrae.org/event/civics-conversation-4/
LOCATION:Zoom
ORGANIZER;CN="Dianne McNenny":MAILTO:mcnennyd@aol.com
END:VEVENT
BEGIN:VEVENT
DTSTART;TZID=America/Los_Angeles:20240825T190000
DTEND;TZID=America/Los_Angeles:20240825T210000
DTSTAMP:20260421T094734
CREATED:20240812T191957Z
LAST-MODIFIED:20240816T181312Z
UID:10002586-1724612400-1724619600@www.northbrae.org
SUMMARY:Sunday Night Book Group
DESCRIPTION:The next selection is The Woman Behind the New Deal\, the Life and Legacy of Frances Perkins by Kirstin Downey.  “Kirstin Downey’s lively\, substantive and—dare I say—inspiring new biography of Perkins . . . not only illuminates Perkins’ career but also deepens the known contradictions of Roosevelt’s character.” —Maureen Corrigan\, NPR Fresh Air.  Contact Dianne McNenny for the Zoom link.
URL:https://www.northbrae.org/event/sunday-night-book-group-7/
LOCATION:Zoom
ORGANIZER;CN="Dianne McNenny":MAILTO:mcnennyd@aol.com
END:VEVENT
BEGIN:VEVENT
DTSTART;TZID=America/Los_Angeles:20240728T190000
DTEND;TZID=America/Los_Angeles:20240728T210000
DTSTAMP:20260421T094734
CREATED:20240616T211036Z
LAST-MODIFIED:20240616T211036Z
UID:10002548-1722193200-1722200400@www.northbrae.org
SUMMARY:Sunday Night Book Group
DESCRIPTION:The next selection is The Woman Behind the New Deal\, the life and legacy of Frances Perkins.
URL:https://www.northbrae.org/event/sunday-night-book-group-6/
LOCATION:Zoom
ORGANIZER;CN="Dianne McNenny":MAILTO:mcnennyd@aol.com
END:VEVENT
BEGIN:VEVENT
DTSTART;TZID=America/Los_Angeles:20240707T190000
DTEND;TZID=America/Los_Angeles:20240707T210000
DTSTAMP:20260421T094734
CREATED:20240616T210434Z
LAST-MODIFIED:20240616T210434Z
UID:10002547-1720378800-1720386000@www.northbrae.org
SUMMARY:Civics Conversation
DESCRIPTION:
URL:https://www.northbrae.org/event/civics-conversation-3/
LOCATION:Zoom
ORGANIZER;CN="Dianne McNenny":MAILTO:mcnennyd@aol.com
END:VEVENT
BEGIN:VEVENT
DTSTART;TZID=America/Los_Angeles:20240602T190000
DTEND;TZID=America/Los_Angeles:20240602T210000
DTSTAMP:20260421T094734
CREATED:20240521T193817Z
LAST-MODIFIED:20240521T193817Z
UID:10002536-1717354800-1717362000@www.northbrae.org
SUMMARY:Civics Conversations
DESCRIPTION:
URL:https://www.northbrae.org/event/civics-conversations-8/
LOCATION:Zoom
ORGANIZER;CN="Dianne McNenny":MAILTO:mcnennyd@aol.com
END:VEVENT
BEGIN:VEVENT
DTSTART;TZID=America/Los_Angeles:20240519T190000
DTEND;TZID=America/Los_Angeles:20240519T210000
DTSTAMP:20260421T094734
CREATED:20240410T051604Z
LAST-MODIFIED:20240410T051604Z
UID:10002437-1716145200-1716152400@www.northbrae.org
SUMMARY:Sunday Night Book Group
DESCRIPTION:The next selection is There There by Tommy Orange\, a literary fiction novel.  Tommy Orange is a citizen of the Cheyenne and Arapaho tribes.  It is set in Oakland\, California.  Contact Dianne for the Zoom link.
URL:https://www.northbrae.org/event/sunday-night-book-group-5/
LOCATION:Zoom
ORGANIZER;CN="Dianne McNenny":MAILTO:mcnennyd@aol.com
END:VEVENT
BEGIN:VEVENT
DTSTART;TZID=America/Los_Angeles:20240414T190000
DTEND;TZID=America/Los_Angeles:20240414T210000
DTSTAMP:20260421T094734
CREATED:20240410T045749Z
LAST-MODIFIED:20240410T045749Z
UID:10002436-1713121200-1713128400@www.northbrae.org
SUMMARY:Civics Conversations
DESCRIPTION:
URL:https://www.northbrae.org/event/civics-conversations-7/
LOCATION:Zoom
ORGANIZER;CN="Dianne McNenny":MAILTO:mcnennyd@aol.com
END:VEVENT
BEGIN:VEVENT
DTSTART;TZID=America/Los_Angeles:20240407T190000
DTEND;TZID=America/Los_Angeles:20240407T210000
DTSTAMP:20260421T094734
CREATED:20240320T203254Z
LAST-MODIFIED:20240320T203254Z
UID:10002429-1712516400-1712523600@www.northbrae.org
SUMMARY:Civics Conversations
DESCRIPTION:
URL:https://www.northbrae.org/event/civics-conversations-6/
LOCATION:Zoom
ORGANIZER;CN="Dianne McNenny":MAILTO:mcnennyd@aol.com
END:VEVENT
BEGIN:VEVENT
DTSTART;TZID=America/Los_Angeles:20240310T190000
DTEND;TZID=America/Los_Angeles:20240310T210000
DTSTAMP:20260421T094734
CREATED:20240130T011751Z
LAST-MODIFIED:20240130T011915Z
UID:10002417-1710097200-1710104400@www.northbrae.org
SUMMARY:Sunday Night Book Group
DESCRIPTION:The next selection is Blooming in Winter by Pamela Valois.  The book is a biography of Bernard Maybeck’s daughter\, Jackie Maybeck.  Early 20th century Berkeley history is central to her story.  Email Dianne for the Zoom link.
URL:https://www.northbrae.org/event/sunday-night-book-group-4/
LOCATION:Zoom
ORGANIZER;CN="Dianne McNenny":MAILTO:mcnennyd@aol.com
END:VEVENT
BEGIN:VEVENT
DTSTART;TZID=America/Los_Angeles:20240303T190000
DTEND;TZID=America/Los_Angeles:20240303T210000
DTSTAMP:20260421T094734
CREATED:20240226T173500Z
LAST-MODIFIED:20240226T173500Z
UID:10002418-1709492400-1709499600@www.northbrae.org
SUMMARY:Civics Conversations
DESCRIPTION:
URL:https://www.northbrae.org/event/civics-conversations-5/
LOCATION:Zoom
ORGANIZER;CN="Dianne McNenny":MAILTO:mcnennyd@aol.com
END:VEVENT
BEGIN:VEVENT
DTSTART;TZID=America/Los_Angeles:20240204T190000
DTEND;TZID=America/Los_Angeles:20240204T210000
DTSTAMP:20260421T094734
CREATED:20240121T233241Z
LAST-MODIFIED:20240121T233241Z
UID:10002132-1707073200-1707080400@www.northbrae.org
SUMMARY:Civics Conversation
DESCRIPTION:
URL:https://www.northbrae.org/event/civics-conversation-2/
LOCATION:Zoom
ORGANIZER;CN="Dianne McNenny":MAILTO:mcnennyd@aol.com
END:VEVENT
BEGIN:VEVENT
DTSTART;TZID=America/Los_Angeles:20240121T190000
DTEND;TZID=America/Los_Angeles:20240121T210000
DTSTAMP:20260421T094734
CREATED:20240105T034003Z
LAST-MODIFIED:20240105T034210Z
UID:10002129-1705863600-1705870800@www.northbrae.org
SUMMARY:Sunday Night Book Group
DESCRIPTION:Our next reading selection is The Balfour Declaration – the Origins of the Arab Israeli Conflict\, By Jonathan Schneer.  Email Dianne for the Zoom link:  mcnennyd@aol.com  \n 
URL:https://www.northbrae.org/event/sunday-night-book-group-3/
LOCATION:Zoom
ORGANIZER;CN="Dianne McNenny":MAILTO:mcnennyd@aol.com
END:VEVENT
BEGIN:VEVENT
DTSTART;TZID=America/Los_Angeles:20230917T190000
DTEND;TZID=America/Los_Angeles:20230917T210000
DTSTAMP:20260421T094734
CREATED:20230814T210722Z
LAST-MODIFIED:20230814T210722Z
UID:10002104-1694977200-1694984400@www.northbrae.org
SUMMARY:Sunday Night Book Group
DESCRIPTION:Our next selection is Solito: A Memoir by Javier Zamora.  A gripping memoir of a 9-year-old’s journey from El Salvador\, through Guatemala and Mexio to the U.S. border.  Contact Dianne to be added to the Zoom list of participants.
URL:https://www.northbrae.org/event/sunday-night-book-group-2/
LOCATION:Zoom
ORGANIZER;CN="Dianne McNenny":MAILTO:mcnennyd@aol.com
END:VEVENT
BEGIN:VEVENT
DTSTART;TZID=America/Los_Angeles:20230903T190000
DTEND;TZID=America/Los_Angeles:20230903T210000
DTSTAMP:20260421T094734
CREATED:20230814T204825Z
LAST-MODIFIED:20230814T204825Z
UID:10002103-1693767600-1693774800@www.northbrae.org
SUMMARY:Civics Conversations
DESCRIPTION:
URL:https://www.northbrae.org/event/civics-conversations-4/
LOCATION:Zoom
ORGANIZER;CN="Dianne McNenny":MAILTO:mcnennyd@aol.com
END:VEVENT
END:VCALENDAR