BEGIN:VCALENDAR
VERSION:2.0
PRODID:-//Northbrae Community Church - ECPv6.15.20//NONSGML v1.0//EN
CALSCALE:GREGORIAN
METHOD:PUBLISH
X-ORIGINAL-URL:https://www.northbrae.org
X-WR-CALDESC:Events for Northbrae Community Church
REFRESH-INTERVAL;VALUE=DURATION:PT1H
X-Robots-Tag:noindex
X-PUBLISHED-TTL:PT1H
BEGIN:VTIMEZONE
TZID:America/Los_Angeles
BEGIN:DAYLIGHT
TZOFFSETFROM:-0800
TZOFFSETTO:-0700
TZNAME:PDT
DTSTART:20250309T100000
END:DAYLIGHT
BEGIN:STANDARD
TZOFFSETFROM:-0700
TZOFFSETTO:-0800
TZNAME:PST
DTSTART:20251102T090000
END:STANDARD
BEGIN:DAYLIGHT
TZOFFSETFROM:-0800
TZOFFSETTO:-0700
TZNAME:PDT
DTSTART:20260308T100000
END:DAYLIGHT
BEGIN:STANDARD
TZOFFSETFROM:-0700
TZOFFSETTO:-0800
TZNAME:PST
DTSTART:20261101T090000
END:STANDARD
BEGIN:DAYLIGHT
TZOFFSETFROM:-0800
TZOFFSETTO:-0700
TZNAME:PDT
DTSTART:20270314T100000
END:DAYLIGHT
BEGIN:STANDARD
TZOFFSETFROM:-0700
TZOFFSETTO:-0800
TZNAME:PST
DTSTART:20271107T090000
END:STANDARD
END:VTIMEZONE
BEGIN:VEVENT
DTSTART;TZID=America/Los_Angeles:20260426T190000
DTEND;TZID=America/Los_Angeles:20260426T203000
DTSTAMP:20260421T082511
CREATED:20260330T194628Z
LAST-MODIFIED:20260330T194628Z
UID:10003324-1777230000-1777235400@www.northbrae.org
SUMMARY:Sunday Night Book Group
DESCRIPTION:Our next book to read is The Beggar King and Secret to Happiness by Joel Ben Izzy.  This is a beautiful book full of old tales – from China\, India\, Persia\, Jerusalem – that help storyteller Joel Ben Izzy through dark times of silence and back into light and sound one more.  Email Dianne for Zoom link.
URL:https://www.northbrae.org/event/sunday-night-book-group-16/
LOCATION:Zoom
ORGANIZER;CN="Dianne McNenny":MAILTO:mcnennyd@aol.com
END:VEVENT
END:VCALENDAR