BEGIN:VCALENDAR
VERSION:2.0
PRODID:-//Northbrae Community Church - ECPv6.15.20//NONSGML v1.0//EN
CALSCALE:GREGORIAN
METHOD:PUBLISH
X-ORIGINAL-URL:https://www.northbrae.org
X-WR-CALDESC:Events for Northbrae Community Church
REFRESH-INTERVAL;VALUE=DURATION:PT1H
X-Robots-Tag:noindex
X-PUBLISHED-TTL:PT1H
BEGIN:VTIMEZONE
TZID:America/Los_Angeles
BEGIN:DAYLIGHT
TZOFFSETFROM:-0800
TZOFFSETTO:-0700
TZNAME:PDT
DTSTART:20220313T100000
END:DAYLIGHT
BEGIN:STANDARD
TZOFFSETFROM:-0700
TZOFFSETTO:-0800
TZNAME:PST
DTSTART:20221106T090000
END:STANDARD
BEGIN:DAYLIGHT
TZOFFSETFROM:-0800
TZOFFSETTO:-0700
TZNAME:PDT
DTSTART:20230312T100000
END:DAYLIGHT
BEGIN:STANDARD
TZOFFSETFROM:-0700
TZOFFSETTO:-0800
TZNAME:PST
DTSTART:20231105T090000
END:STANDARD
BEGIN:DAYLIGHT
TZOFFSETFROM:-0800
TZOFFSETTO:-0700
TZNAME:PDT
DTSTART:20240310T100000
END:DAYLIGHT
BEGIN:STANDARD
TZOFFSETFROM:-0700
TZOFFSETTO:-0800
TZNAME:PST
DTSTART:20241103T090000
END:STANDARD
BEGIN:DAYLIGHT
TZOFFSETFROM:-0800
TZOFFSETTO:-0700
TZNAME:PDT
DTSTART:20250309T100000
END:DAYLIGHT
BEGIN:STANDARD
TZOFFSETFROM:-0700
TZOFFSETTO:-0800
TZNAME:PST
DTSTART:20251102T090000
END:STANDARD
END:VTIMEZONE
BEGIN:VEVENT
DTSTART;TZID=America/Los_Angeles:20240416T100000
DTEND;TZID=America/Los_Angeles:20240416T230000
DTSTAMP:20260420T043403
CREATED:20221013T171425Z
LAST-MODIFIED:20230219T030252Z
UID:10000281-1713261600-1713308400@www.northbrae.org
SUMMARY:Third Tuesday Study Group
DESCRIPTION:The Tuesday Group meets via Zoom on the first and third Tuesdays of each month at 10:00 AM.  We read our books together\, discuss them and share our lives as it relates to them.  If you are interested in joining\, contact Kathy Oldham at jkoldham@sbcglobal.net.  You do not need to have the book to participate.
URL:https://www.northbrae.org/event/tuesday-morning-study-group/2024-04-16/
LOCATION:Zoom
ATTACH;FMTTYPE=image/jpeg:https://www.northbrae.org/wp-content/uploads/2022/10/iStock-1389876065-book-club-e1665681147930.jpg
ORGANIZER;CN="Kathy Oldham":MAILTO:jkoldham@sbcglobal.net
END:VEVENT
BEGIN:VEVENT
DTSTART;TZID=America/Los_Angeles:20240414T190000
DTEND;TZID=America/Los_Angeles:20240414T210000
DTSTAMP:20260420T043403
CREATED:20240410T045749Z
LAST-MODIFIED:20240410T045749Z
UID:10002436-1713121200-1713128400@www.northbrae.org
SUMMARY:Civics Conversations
DESCRIPTION:
URL:https://www.northbrae.org/event/civics-conversations-7/
LOCATION:Zoom
ORGANIZER;CN="Dianne McNenny":MAILTO:mcnennyd@aol.com
END:VEVENT
BEGIN:VEVENT
DTSTART;TZID=America/Los_Angeles:20240407T190000
DTEND;TZID=America/Los_Angeles:20240407T210000
DTSTAMP:20260420T043403
CREATED:20240320T203254Z
LAST-MODIFIED:20240320T203254Z
UID:10002429-1712516400-1712523600@www.northbrae.org
SUMMARY:Civics Conversations
DESCRIPTION:
URL:https://www.northbrae.org/event/civics-conversations-6/
LOCATION:Zoom
ORGANIZER;CN="Dianne McNenny":MAILTO:mcnennyd@aol.com
END:VEVENT
BEGIN:VEVENT
DTSTART;TZID=America/Los_Angeles:20240402T100000
DTEND;TZID=America/Los_Angeles:20240402T230000
DTSTAMP:20260420T043403
CREATED:20221013T171814Z
LAST-MODIFIED:20221013T171814Z
UID:10000400-1712052000-1712098800@www.northbrae.org
SUMMARY:First Tuesday Study Group
DESCRIPTION:The Tuesday Group meets via Zoom on the first and third Tuesdays of each month at 10:00 AM.  We read our books together\, discuss them and share our lives as it relates to them.  If you are interested in joining\, contact Kathy Oldham at jkoldham@sbcglobal.net.  You do not need to have the book to participate.
URL:https://www.northbrae.org/event/first-tuesday-study-group/2024-04-02/
LOCATION:Zoom
ATTACH;FMTTYPE=image/jpeg:https://www.northbrae.org/wp-content/uploads/2022/10/iStock-1389876065-book-club-e1665681147930.jpg
ORGANIZER;CN="Kathy Oldham":MAILTO:jkoldham@sbcglobal.net
END:VEVENT
BEGIN:VEVENT
DTSTART;TZID=America/Los_Angeles:20240320T190000
DTEND;TZID=America/Los_Angeles:20240320T210000
DTSTAMP:20260420T043403
CREATED:20240320T203618Z
LAST-MODIFIED:20240320T210006Z
UID:10002430-1710961200-1710968400@www.northbrae.org
SUMMARY:Movie Night
DESCRIPTION:Join us for a discussion of the film East Side Sushi\, available for viewing on Hoopla. Continuing our theme of friendship\, this movie is about an immigrant single mother disenfranchised by her regular life who decides to take a chance working at a Japanese restaurant. \nEmail Suzanne at movienightnorthbrae@gmail.com
URL:https://www.northbrae.org/event/movie-night-11/
LOCATION:Zoom
ORGANIZER;CN="Suzanne":MAILTO:movienightnorthbrae@gmail.com
END:VEVENT
BEGIN:VEVENT
DTSTART;TZID=America/Los_Angeles:20240319T100000
DTEND;TZID=America/Los_Angeles:20240319T230000
DTSTAMP:20260420T043403
CREATED:20221013T171425Z
LAST-MODIFIED:20230219T030252Z
UID:10000280-1710842400-1710889200@www.northbrae.org
SUMMARY:Third Tuesday Study Group
DESCRIPTION:The Tuesday Group meets via Zoom on the first and third Tuesdays of each month at 10:00 AM.  We read our books together\, discuss them and share our lives as it relates to them.  If you are interested in joining\, contact Kathy Oldham at jkoldham@sbcglobal.net.  You do not need to have the book to participate.
URL:https://www.northbrae.org/event/tuesday-morning-study-group/2024-03-19/
LOCATION:Zoom
ATTACH;FMTTYPE=image/jpeg:https://www.northbrae.org/wp-content/uploads/2022/10/iStock-1389876065-book-club-e1665681147930.jpg
ORGANIZER;CN="Kathy Oldham":MAILTO:jkoldham@sbcglobal.net
END:VEVENT
BEGIN:VEVENT
DTSTART;TZID=America/Los_Angeles:20240310T190000
DTEND;TZID=America/Los_Angeles:20240310T210000
DTSTAMP:20260420T043403
CREATED:20240130T011751Z
LAST-MODIFIED:20240130T011915Z
UID:10002417-1710097200-1710104400@www.northbrae.org
SUMMARY:Sunday Night Book Group
DESCRIPTION:The next selection is Blooming in Winter by Pamela Valois.  The book is a biography of Bernard Maybeck’s daughter\, Jackie Maybeck.  Early 20th century Berkeley history is central to her story.  Email Dianne for the Zoom link.
URL:https://www.northbrae.org/event/sunday-night-book-group-4/
LOCATION:Zoom
ORGANIZER;CN="Dianne McNenny":MAILTO:mcnennyd@aol.com
END:VEVENT
BEGIN:VEVENT
DTSTART;TZID=America/Los_Angeles:20240305T100000
DTEND;TZID=America/Los_Angeles:20240305T230000
DTSTAMP:20260420T043403
CREATED:20221013T171814Z
LAST-MODIFIED:20221013T171814Z
UID:10000399-1709632800-1709679600@www.northbrae.org
SUMMARY:First Tuesday Study Group
DESCRIPTION:The Tuesday Group meets via Zoom on the first and third Tuesdays of each month at 10:00 AM.  We read our books together\, discuss them and share our lives as it relates to them.  If you are interested in joining\, contact Kathy Oldham at jkoldham@sbcglobal.net.  You do not need to have the book to participate.
URL:https://www.northbrae.org/event/first-tuesday-study-group/2024-03-05/
LOCATION:Zoom
ATTACH;FMTTYPE=image/jpeg:https://www.northbrae.org/wp-content/uploads/2022/10/iStock-1389876065-book-club-e1665681147930.jpg
ORGANIZER;CN="Kathy Oldham":MAILTO:jkoldham@sbcglobal.net
END:VEVENT
BEGIN:VEVENT
DTSTART;TZID=America/Los_Angeles:20240303T190000
DTEND;TZID=America/Los_Angeles:20240303T210000
DTSTAMP:20260420T043403
CREATED:20240226T173500Z
LAST-MODIFIED:20240226T173500Z
UID:10002418-1709492400-1709499600@www.northbrae.org
SUMMARY:Civics Conversations
DESCRIPTION:
URL:https://www.northbrae.org/event/civics-conversations-5/
LOCATION:Zoom
ORGANIZER;CN="Dianne McNenny":MAILTO:mcnennyd@aol.com
END:VEVENT
BEGIN:VEVENT
DTSTART;TZID=America/Los_Angeles:20240221T190000
DTEND;TZID=America/Los_Angeles:20240221T210000
DTSTAMP:20260420T043403
CREATED:20240119T195047Z
LAST-MODIFIED:20240119T195047Z
UID:10002130-1708542000-1708549200@www.northbrae.org
SUMMARY:Movie Night
DESCRIPTION:Please join us for a discussion of the film The Intouchables\, available for viewing on Hoopla.  This film is based on the true story of a friendship between two seemingly different men – one exceptionally rich\, French and quadriplegic – the other poor\, African immigrant and very able bodied.
URL:https://www.northbrae.org/event/movie-night-10/
LOCATION:Zoom
ATTACH;FMTTYPE=image/jpeg:https://www.northbrae.org/wp-content/uploads/2024/01/v46910ay1ni.jpg
ORGANIZER;CN="Suzanne":MAILTO:movienightnorthbrae@gmail.com
END:VEVENT
BEGIN:VEVENT
DTSTART;TZID=America/Los_Angeles:20240220T100000
DTEND;TZID=America/Los_Angeles:20240220T230000
DTSTAMP:20260420T043403
CREATED:20221013T171425Z
LAST-MODIFIED:20230219T030252Z
UID:10000279-1708423200-1708470000@www.northbrae.org
SUMMARY:Third Tuesday Study Group
DESCRIPTION:The Tuesday Group meets via Zoom on the first and third Tuesdays of each month at 10:00 AM.  We read our books together\, discuss them and share our lives as it relates to them.  If you are interested in joining\, contact Kathy Oldham at jkoldham@sbcglobal.net.  You do not need to have the book to participate.
URL:https://www.northbrae.org/event/tuesday-morning-study-group/2024-02-20/
LOCATION:Zoom
ATTACH;FMTTYPE=image/jpeg:https://www.northbrae.org/wp-content/uploads/2022/10/iStock-1389876065-book-club-e1665681147930.jpg
ORGANIZER;CN="Kathy Oldham":MAILTO:jkoldham@sbcglobal.net
END:VEVENT
BEGIN:VEVENT
DTSTART;TZID=America/Los_Angeles:20240206T100000
DTEND;TZID=America/Los_Angeles:20240206T230000
DTSTAMP:20260420T043403
CREATED:20221013T171814Z
LAST-MODIFIED:20221013T171814Z
UID:10000398-1707213600-1707260400@www.northbrae.org
SUMMARY:First Tuesday Study Group
DESCRIPTION:The Tuesday Group meets via Zoom on the first and third Tuesdays of each month at 10:00 AM.  We read our books together\, discuss them and share our lives as it relates to them.  If you are interested in joining\, contact Kathy Oldham at jkoldham@sbcglobal.net.  You do not need to have the book to participate.
URL:https://www.northbrae.org/event/first-tuesday-study-group/2024-02-06/
LOCATION:Zoom
ATTACH;FMTTYPE=image/jpeg:https://www.northbrae.org/wp-content/uploads/2022/10/iStock-1389876065-book-club-e1665681147930.jpg
ORGANIZER;CN="Kathy Oldham":MAILTO:jkoldham@sbcglobal.net
END:VEVENT
BEGIN:VEVENT
DTSTART;TZID=America/Los_Angeles:20240204T190000
DTEND;TZID=America/Los_Angeles:20240204T210000
DTSTAMP:20260420T043403
CREATED:20240121T233241Z
LAST-MODIFIED:20240121T233241Z
UID:10002132-1707073200-1707080400@www.northbrae.org
SUMMARY:Civics Conversation
DESCRIPTION:
URL:https://www.northbrae.org/event/civics-conversation-2/
LOCATION:Zoom
ORGANIZER;CN="Dianne McNenny":MAILTO:mcnennyd@aol.com
END:VEVENT
BEGIN:VEVENT
DTSTART;TZID=America/Los_Angeles:20240121T190000
DTEND;TZID=America/Los_Angeles:20240121T210000
DTSTAMP:20260420T043403
CREATED:20240105T034003Z
LAST-MODIFIED:20240105T034210Z
UID:10002129-1705863600-1705870800@www.northbrae.org
SUMMARY:Sunday Night Book Group
DESCRIPTION:Our next reading selection is The Balfour Declaration – the Origins of the Arab Israeli Conflict\, By Jonathan Schneer.  Email Dianne for the Zoom link:  mcnennyd@aol.com  \n 
URL:https://www.northbrae.org/event/sunday-night-book-group-3/
LOCATION:Zoom
ORGANIZER;CN="Dianne McNenny":MAILTO:mcnennyd@aol.com
END:VEVENT
BEGIN:VEVENT
DTSTART;TZID=America/Los_Angeles:20240117T190000
DTEND;TZID=America/Los_Angeles:20240117T210000
DTSTAMP:20260420T043403
CREATED:20240105T032132Z
LAST-MODIFIED:20240105T032542Z
UID:10002128-1705518000-1705525200@www.northbrae.org
SUMMARY:Movie Night
DESCRIPTION:Movie Night begins the new year with the theme of friendship.   Please watch the film Stan and Ollie on your own.  Join us on Zoom for a discussion of the film.  Please email Suzanne for a zoom link at movienightatnorthbrae@gmail.com.
URL:https://www.northbrae.org/event/movie-night-9/
LOCATION:Zoom
ORGANIZER;CN="Suzanne":MAILTO:movienightnorthbrae@gmail.com
END:VEVENT
BEGIN:VEVENT
DTSTART;TZID=America/Los_Angeles:20240116T100000
DTEND;TZID=America/Los_Angeles:20240116T230000
DTSTAMP:20260420T043403
CREATED:20221013T171425Z
LAST-MODIFIED:20230219T030252Z
UID:10000278-1705399200-1705446000@www.northbrae.org
SUMMARY:Third Tuesday Study Group
DESCRIPTION:The Tuesday Group meets via Zoom on the first and third Tuesdays of each month at 10:00 AM.  We read our books together\, discuss them and share our lives as it relates to them.  If you are interested in joining\, contact Kathy Oldham at jkoldham@sbcglobal.net.  You do not need to have the book to participate.
URL:https://www.northbrae.org/event/tuesday-morning-study-group/2024-01-16/
LOCATION:Zoom
ATTACH;FMTTYPE=image/jpeg:https://www.northbrae.org/wp-content/uploads/2022/10/iStock-1389876065-book-club-e1665681147930.jpg
ORGANIZER;CN="Kathy Oldham":MAILTO:jkoldham@sbcglobal.net
END:VEVENT
BEGIN:VEVENT
DTSTART;TZID=America/Los_Angeles:20240102T100000
DTEND;TZID=America/Los_Angeles:20240102T230000
DTSTAMP:20260420T043403
CREATED:20221013T171814Z
LAST-MODIFIED:20221013T171814Z
UID:10000397-1704189600-1704236400@www.northbrae.org
SUMMARY:First Tuesday Study Group
DESCRIPTION:The Tuesday Group meets via Zoom on the first and third Tuesdays of each month at 10:00 AM.  We read our books together\, discuss them and share our lives as it relates to them.  If you are interested in joining\, contact Kathy Oldham at jkoldham@sbcglobal.net.  You do not need to have the book to participate.
URL:https://www.northbrae.org/event/first-tuesday-study-group/2024-01-02/
LOCATION:Zoom
ATTACH;FMTTYPE=image/jpeg:https://www.northbrae.org/wp-content/uploads/2022/10/iStock-1389876065-book-club-e1665681147930.jpg
ORGANIZER;CN="Kathy Oldham":MAILTO:jkoldham@sbcglobal.net
END:VEVENT
BEGIN:VEVENT
DTSTART;TZID=America/Los_Angeles:20231219T100000
DTEND;TZID=America/Los_Angeles:20231219T230000
DTSTAMP:20260420T043403
CREATED:20221013T171425Z
LAST-MODIFIED:20230219T030252Z
UID:10000277-1702980000-1703026800@www.northbrae.org
SUMMARY:Third Tuesday Study Group
DESCRIPTION:The Tuesday Group meets via Zoom on the first and third Tuesdays of each month at 10:00 AM.  We read our books together\, discuss them and share our lives as it relates to them.  If you are interested in joining\, contact Kathy Oldham at jkoldham@sbcglobal.net.  You do not need to have the book to participate.
URL:https://www.northbrae.org/event/tuesday-morning-study-group/2023-12-19/
LOCATION:Zoom
ATTACH;FMTTYPE=image/jpeg:https://www.northbrae.org/wp-content/uploads/2022/10/iStock-1389876065-book-club-e1665681147930.jpg
ORGANIZER;CN="Kathy Oldham":MAILTO:jkoldham@sbcglobal.net
END:VEVENT
BEGIN:VEVENT
DTSTART;TZID=America/Los_Angeles:20231205T100000
DTEND;TZID=America/Los_Angeles:20231205T230000
DTSTAMP:20260420T043403
CREATED:20221013T171814Z
LAST-MODIFIED:20221013T171814Z
UID:10000396-1701770400-1701817200@www.northbrae.org
SUMMARY:First Tuesday Study Group
DESCRIPTION:The Tuesday Group meets via Zoom on the first and third Tuesdays of each month at 10:00 AM.  We read our books together\, discuss them and share our lives as it relates to them.  If you are interested in joining\, contact Kathy Oldham at jkoldham@sbcglobal.net.  You do not need to have the book to participate.
URL:https://www.northbrae.org/event/first-tuesday-study-group/2023-12-05/
LOCATION:Zoom
ATTACH;FMTTYPE=image/jpeg:https://www.northbrae.org/wp-content/uploads/2022/10/iStock-1389876065-book-club-e1665681147930.jpg
ORGANIZER;CN="Kathy Oldham":MAILTO:jkoldham@sbcglobal.net
END:VEVENT
BEGIN:VEVENT
DTSTART;TZID=America/Los_Angeles:20231121T100000
DTEND;TZID=America/Los_Angeles:20231121T230000
DTSTAMP:20260420T043403
CREATED:20221013T171425Z
LAST-MODIFIED:20230219T030252Z
UID:10000276-1700560800-1700607600@www.northbrae.org
SUMMARY:Third Tuesday Study Group
DESCRIPTION:The Tuesday Group meets via Zoom on the first and third Tuesdays of each month at 10:00 AM.  We read our books together\, discuss them and share our lives as it relates to them.  If you are interested in joining\, contact Kathy Oldham at jkoldham@sbcglobal.net.  You do not need to have the book to participate.
URL:https://www.northbrae.org/event/tuesday-morning-study-group/2023-11-21/
LOCATION:Zoom
ATTACH;FMTTYPE=image/jpeg:https://www.northbrae.org/wp-content/uploads/2022/10/iStock-1389876065-book-club-e1665681147930.jpg
ORGANIZER;CN="Kathy Oldham":MAILTO:jkoldham@sbcglobal.net
END:VEVENT
BEGIN:VEVENT
DTSTART;TZID=America/Los_Angeles:20231107T100000
DTEND;TZID=America/Los_Angeles:20231107T230000
DTSTAMP:20260420T043403
CREATED:20221013T171814Z
LAST-MODIFIED:20221013T171814Z
UID:10000395-1699351200-1699398000@www.northbrae.org
SUMMARY:First Tuesday Study Group
DESCRIPTION:The Tuesday Group meets via Zoom on the first and third Tuesdays of each month at 10:00 AM.  We read our books together\, discuss them and share our lives as it relates to them.  If you are interested in joining\, contact Kathy Oldham at jkoldham@sbcglobal.net.  You do not need to have the book to participate.
URL:https://www.northbrae.org/event/first-tuesday-study-group/2023-11-07/
LOCATION:Zoom
ATTACH;FMTTYPE=image/jpeg:https://www.northbrae.org/wp-content/uploads/2022/10/iStock-1389876065-book-club-e1665681147930.jpg
ORGANIZER;CN="Kathy Oldham":MAILTO:jkoldham@sbcglobal.net
END:VEVENT
BEGIN:VEVENT
DTSTART;TZID=America/Los_Angeles:20231018T183000
DTEND;TZID=America/Los_Angeles:20231018T200000
DTSTAMP:20260420T043403
CREATED:20230928T174331Z
LAST-MODIFIED:20230928T174331Z
UID:10002126-1697653800-1697659200@www.northbrae.org
SUMMARY:Movie Night
DESCRIPTION:Please join us on Zoom we discuss the film A Special Day.  We will discuss this Italian classic about two neighbors who meet on the day Hitler comes to Rome.  Please email Suzanne for the Zoom link at movienightatnorthbrae@gmail.com.
URL:https://www.northbrae.org/event/movie-night-8/
LOCATION:Zoom
ATTACH;FMTTYPE=image/jpeg:https://www.northbrae.org/wp-content/uploads/2023/09/moviespecial.jpg
ORGANIZER;CN="Suzanne":MAILTO:movienightnorthbrae@gmail.com
END:VEVENT
BEGIN:VEVENT
DTSTART;TZID=America/Los_Angeles:20231017T100000
DTEND;TZID=America/Los_Angeles:20231017T230000
DTSTAMP:20260420T043403
CREATED:20221013T171425Z
LAST-MODIFIED:20230219T030252Z
UID:10000275-1697536800-1697583600@www.northbrae.org
SUMMARY:Third Tuesday Study Group
DESCRIPTION:The Tuesday Group meets via Zoom on the first and third Tuesdays of each month at 10:00 AM.  We read our books together\, discuss them and share our lives as it relates to them.  If you are interested in joining\, contact Kathy Oldham at jkoldham@sbcglobal.net.  You do not need to have the book to participate.
URL:https://www.northbrae.org/event/tuesday-morning-study-group/2023-10-17/
LOCATION:Zoom
ATTACH;FMTTYPE=image/jpeg:https://www.northbrae.org/wp-content/uploads/2022/10/iStock-1389876065-book-club-e1665681147930.jpg
ORGANIZER;CN="Kathy Oldham":MAILTO:jkoldham@sbcglobal.net
END:VEVENT
BEGIN:VEVENT
DTSTART;TZID=America/Los_Angeles:20231003T100000
DTEND;TZID=America/Los_Angeles:20231003T230000
DTSTAMP:20260420T043403
CREATED:20221013T171814Z
LAST-MODIFIED:20221013T171814Z
UID:10000394-1696327200-1696374000@www.northbrae.org
SUMMARY:First Tuesday Study Group
DESCRIPTION:The Tuesday Group meets via Zoom on the first and third Tuesdays of each month at 10:00 AM.  We read our books together\, discuss them and share our lives as it relates to them.  If you are interested in joining\, contact Kathy Oldham at jkoldham@sbcglobal.net.  You do not need to have the book to participate.
URL:https://www.northbrae.org/event/first-tuesday-study-group/2023-10-03/
LOCATION:Zoom
ATTACH;FMTTYPE=image/jpeg:https://www.northbrae.org/wp-content/uploads/2022/10/iStock-1389876065-book-club-e1665681147930.jpg
ORGANIZER;CN="Kathy Oldham":MAILTO:jkoldham@sbcglobal.net
END:VEVENT
BEGIN:VEVENT
DTSTART;TZID=America/Los_Angeles:20230927T190000
DTEND;TZID=America/Los_Angeles:20230927T210000
DTSTAMP:20260420T043403
CREATED:20230826T034007Z
LAST-MODIFIED:20230914T114713Z
UID:10002125-1695841200-1695848400@www.northbrae.org
SUMMARY:Movie Night
DESCRIPTION:Please join us on Zoom to discuss the film Bicycle Thieves.  This 1948 Italian Neorealism classic by director Antonio De Sica follows a poor father around post war Rome on his journey to find his stolen bicycle which he needs to support his family.   Please email Suzanne at  movienightnorthbrae@gmail.com for the zoom link.
URL:https://www.northbrae.org/event/movie-night-7/
LOCATION:Zoom
ORGANIZER;CN="Suzanne":MAILTO:movienightnorthbrae@gmail.com
END:VEVENT
BEGIN:VEVENT
DTSTART;TZID=America/Los_Angeles:20230919T100000
DTEND;TZID=America/Los_Angeles:20230919T230000
DTSTAMP:20260420T043403
CREATED:20221013T171425Z
LAST-MODIFIED:20230219T030252Z
UID:10000274-1695117600-1695164400@www.northbrae.org
SUMMARY:Third Tuesday Study Group
DESCRIPTION:The Tuesday Group meets via Zoom on the first and third Tuesdays of each month at 10:00 AM.  We read our books together\, discuss them and share our lives as it relates to them.  If you are interested in joining\, contact Kathy Oldham at jkoldham@sbcglobal.net.  You do not need to have the book to participate.
URL:https://www.northbrae.org/event/tuesday-morning-study-group/2023-09-19/
LOCATION:Zoom
ATTACH;FMTTYPE=image/jpeg:https://www.northbrae.org/wp-content/uploads/2022/10/iStock-1389876065-book-club-e1665681147930.jpg
ORGANIZER;CN="Kathy Oldham":MAILTO:jkoldham@sbcglobal.net
END:VEVENT
BEGIN:VEVENT
DTSTART;TZID=America/Los_Angeles:20230917T190000
DTEND;TZID=America/Los_Angeles:20230917T210000
DTSTAMP:20260420T043403
CREATED:20230814T210722Z
LAST-MODIFIED:20230814T210722Z
UID:10002104-1694977200-1694984400@www.northbrae.org
SUMMARY:Sunday Night Book Group
DESCRIPTION:Our next selection is Solito: A Memoir by Javier Zamora.  A gripping memoir of a 9-year-old’s journey from El Salvador\, through Guatemala and Mexio to the U.S. border.  Contact Dianne to be added to the Zoom list of participants.
URL:https://www.northbrae.org/event/sunday-night-book-group-2/
LOCATION:Zoom
ORGANIZER;CN="Dianne McNenny":MAILTO:mcnennyd@aol.com
END:VEVENT
BEGIN:VEVENT
DTSTART;TZID=America/Los_Angeles:20230905T100000
DTEND;TZID=America/Los_Angeles:20230905T230000
DTSTAMP:20260420T043403
CREATED:20221013T171814Z
LAST-MODIFIED:20221013T171814Z
UID:10000393-1693908000-1693954800@www.northbrae.org
SUMMARY:First Tuesday Study Group
DESCRIPTION:The Tuesday Group meets via Zoom on the first and third Tuesdays of each month at 10:00 AM.  We read our books together\, discuss them and share our lives as it relates to them.  If you are interested in joining\, contact Kathy Oldham at jkoldham@sbcglobal.net.  You do not need to have the book to participate.
URL:https://www.northbrae.org/event/first-tuesday-study-group/2023-09-05/
LOCATION:Zoom
ATTACH;FMTTYPE=image/jpeg:https://www.northbrae.org/wp-content/uploads/2022/10/iStock-1389876065-book-club-e1665681147930.jpg
ORGANIZER;CN="Kathy Oldham":MAILTO:jkoldham@sbcglobal.net
END:VEVENT
BEGIN:VEVENT
DTSTART;TZID=America/Los_Angeles:20230903T190000
DTEND;TZID=America/Los_Angeles:20230903T210000
DTSTAMP:20260420T043403
CREATED:20230814T204825Z
LAST-MODIFIED:20230814T204825Z
UID:10002103-1693767600-1693774800@www.northbrae.org
SUMMARY:Civics Conversations
DESCRIPTION:
URL:https://www.northbrae.org/event/civics-conversations-4/
LOCATION:Zoom
ORGANIZER;CN="Dianne McNenny":MAILTO:mcnennyd@aol.com
END:VEVENT
BEGIN:VEVENT
DTSTART;TZID=America/Los_Angeles:20230823T190000
DTEND;TZID=America/Los_Angeles:20230823T210000
DTSTAMP:20260420T043403
CREATED:20230721T021139Z
LAST-MODIFIED:20230721T021840Z
UID:10002102-1692817200-1692824400@www.northbrae.org
SUMMARY:Movie Night
DESCRIPTION:Please join us on Zoom as we discuss the film Ikiru – the classic film about a man’s quest for meaning.  Please email Suzanne for the Zoom link at movienightatnorthbrae@gmail.com.
URL:https://www.northbrae.org/event/movie-night-6/
LOCATION:Zoom
ATTACH;FMTTYPE=image/jpeg:https://www.northbrae.org/wp-content/uploads/2023/07/movie-2.jpg
ORGANIZER;CN="Suzanne":MAILTO:movienightnorthbrae@gmail.com
END:VEVENT
END:VCALENDAR